BEGIN:VCALENDAR
VERSION:2.0
PRODID:-//DBSU - ECPv6.15.17//NONSGML v1.0//EN
CALSCALE:GREGORIAN
METHOD:PUBLISH
X-ORIGINAL-URL:https://dbsu.dk
X-WR-CALDESC:Begivenheder for DBSU
REFRESH-INTERVAL;VALUE=DURATION:PT1H
X-Robots-Tag:noindex
X-PUBLISHED-TTL:PT1H
BEGIN:VTIMEZONE
TZID:Europe/Copenhagen
BEGIN:DAYLIGHT
TZOFFSETFROM:+0100
TZOFFSETTO:+0200
TZNAME:CEST
DTSTART:20240331T010000
END:DAYLIGHT
BEGIN:STANDARD
TZOFFSETFROM:+0200
TZOFFSETTO:+0100
TZNAME:CET
DTSTART:20241027T010000
END:STANDARD
BEGIN:DAYLIGHT
TZOFFSETFROM:+0100
TZOFFSETTO:+0200
TZNAME:CEST
DTSTART:20250330T010000
END:DAYLIGHT
BEGIN:STANDARD
TZOFFSETFROM:+0200
TZOFFSETTO:+0100
TZNAME:CET
DTSTART:20251026T010000
END:STANDARD
BEGIN:DAYLIGHT
TZOFFSETFROM:+0100
TZOFFSETTO:+0200
TZNAME:CEST
DTSTART:20260329T010000
END:DAYLIGHT
BEGIN:STANDARD
TZOFFSETFROM:+0200
TZOFFSETTO:+0100
TZNAME:CET
DTSTART:20261025T010000
END:STANDARD
END:VTIMEZONE
BEGIN:VEVENT
DTSTART;TZID=Europe/Copenhagen:20250823T093000
DTEND;TZID=Europe/Copenhagen:20250823T160000
DTSTAMP:20260419T064611
CREATED:20250820T062258Z
LAST-MODIFIED:20250820T065604Z
UID:10000002-1755941400-1755964800@dbsu.dk
SUMMARY:Traktorkørsel og fællesspisning i DBSU region øst
DESCRIPTION:Traktorkørsel og fællesspisning i DBSU region øst\nRegion øst tager en tur på landet. Ud på en rigtig bondegård\, hvor vi skal prøve at sidde bag rettet i en rigtig traktor. Vi skal tilmed prøve at køre den.\nEfter at have levet vores indre landmand ud\, og fået diesel i blodet\, tager vi ind til den store by\, og spiser en stor beskidt burger.\nHvor og hvornår:\nLørdag d: 23. august.\nVi mødes på Næstved banegård lørdag d: 23. august kl. 09:30. Herfra tager vi toget til Holme Olstrup\, hvorfra vi tager den sidste del af turen i taxa. Efter endt traktorkørsel tager vi den samme tur tilbage til Næstved banegård\, hvorfra vi går til Broadway Burgers. Vi returnerer til Næstved banegård efter endt spisning ca. kl. 16.\nVi har 10 pladser på denne sensommeroplevelse\, som du får for bare 200 kr\, så skynd dig med din tilmelding.\nMobilePay: 44320 (DBSU Region Øst)\nSidste frist for tilmelding er den 15. august. Obs: kontoret er ferielukket fra i morgen og frem til den 4. august. Du kan sagtens sende din tilmelding\, men forvent først svar i starten af august!\nMvh\nGustav og Elia
URL:https://dbsu.dk/arrangement/traktorkoersel-og-faellesspisning-i-dbsu-region-oest/
END:VEVENT
BEGIN:VEVENT
DTSTART;TZID=Europe/Copenhagen:20250823T140000
DTEND;TZID=Europe/Copenhagen:20250824T120000
DTSTAMP:20260419T064611
CREATED:20250820T061826Z
LAST-MODIFIED:20250820T061826Z
UID:10000001-1755957600-1756036800@dbsu.dk
SUMMARY:DBSU Region Vest: Sommerfest i Farsø
DESCRIPTION:nvitation til grillfest med DBSU Region Vest \nSommeren står på sit højeste\, og hvad er en bedre måde at fejre det på end med grillmad\, hyggeligt samvær og en god aften under åben himmel? \nRegion Vest inviterer til en hyggelig dag i Farsø\, hvor vi tænder op i haven\, spiser os mætte og nyder hinandens selskab. En fantastisk mulighed for at ses med både nye og gamle DBSU-bekendtskaber i afslappede rammer\, uden noget specifikt på programmet. \n  \nTid og sted  \nLørdag d. 23. august kl. 14.00 til søndag d. 24. august kl. 12.00 \nØrnevej 5\, 9640 Farsø. Åstedet er hjemme hos undertegnede\, Nikolaj. \n  \nHvad kan du glæde dig til? \n\nMasser af god mad fra grillen.\nAlt hvad der hører sig til af salater\, brød og drikkelse.\nEn fed aften med både fest og hygge. Vi disker op med alt fra partyhøjtaler\, spil og endda eget showdown-bord\, foruden de aktiviteter der ellers vil være stemning for.\nHusk at du altid kan skrive til os\, hvis du sidder og brænder inde med en genial ide til en festleg eller lignende.\n\n  \nTransport  \nVi arrangerer fælles transport fra Hobro Station lørdag omkring kl. 14:00\, og ligeledes til Hobro om søndagen ved middagstid. \nHvis du bor i nærheden kan du eventuelt tjekke\, om der går en direkte bus. Fx går der direkte bus fra Aalborg til Farsø med bus 951X\, vi henter dig gerne ved stoppestedet. \nSkriv ved tilmelding\, hvordan du ankommer. \n  \nOvernatning  \nDer er ikke ubegrænset plads til alle overnattende indendørs\, så der vil være mulighed for at sove i telt i haven. Du må derfor gerne oplyse ved tilmelding\, om du allerede nu ved\, at du godt kunne tænke dig at sove udendørs\, og har mulighed for at medbringe sovepose og liggeunderlag\, så koordinerer vi det hele\, når vi kommer lidt tættere på. \n  \nTilmelding \nBemærk: Man skal være fyldt 16 for at deltage\, da der vil være alkohol til festen. \nSend en mail til tilmelding@dbsu.dk eller ring på 71 71 02 23 og oplys: \n\nnavn.\nTransport: Jeg ønsker at deltage i fællestransport fra Hobro\, jeg kommer med bus\, eller jeg kommer selv til Farsø.\nØnske om overnatning (inde\, telt eller begge er ok)\nEventuelle kosthensyn\n\nVed tilmelding er der en deltagerbetaling på 100 kr.\, som skal sendes til Mobilepay 71006 eller konto 8401-1068255. Skriv ”sommerfest” ved overførsel. \nSidste frist for tilmelding: fredag d. 15. august kl. 12:00. \nVi glæder os helt vildt til at se jer til en forhåbentlig mega fed fest. \nTøv endelig ikke med at kontakte en af os arrangører\, hvis der skulle være nogle spørgsmål\, ønsker eller andet. \n  \nDe varmeste sommerhilsner: \nNikolaj Rønaa \nnkr@dbsu.dk \nTlf: 25723385 \nAnnette Olsen \naao@dbsu.dk \nTlf: 53356932
URL:https://dbsu.dk/arrangement/dbsu-region-vest-sommerfest-i-farsoe/
ATTACH;FMTTYPE=image/png:https://dbsu.dk/wp-content/uploads/Sommefest-med-Region-Vest.png
END:VEVENT
BEGIN:VEVENT
DTSTART;TZID=Europe/Copenhagen:20250830T080000
DTEND;TZID=Europe/Copenhagen:20250831T170000
DTSTAMP:20260419T064611
CREATED:20250820T064013Z
LAST-MODIFIED:20250820T064013Z
UID:10000003-1756540800-1756659600@dbsu.dk
SUMMARY:DBSU Region Øst: kanotur på Suså
DESCRIPTION:Invitation til kanotur på Susåen – 30.-31. august\n\n\nEr du klar på frisk luft\, hyggeligt samvær og en naturoplevelse ud over det sædvanlige?\nDBSU Region Øst og DBS Kreds København inviterer til en skøn weekend med kanosejlads\, bålmad og overnatning i det fri!\nDu behøver ikke være en kanohaj for at kunne deltage. Det vigtigste er at du har lyst til at prøve kræfter med kanosejladsen.\nLørdag sætter vi kanoerne i vandet og glider afsted langs den smukke Suså. Turen foregår i et roligt tempo\, hvor der er god tid til at snakke\, grine og nyde naturen.\nDer vil være pause undervejs\, hvor vi sørger for frokost og hygge.\nNår vi når frem til vores lejrplads\, tænder vi op i bålet og laver aftensmad sammen under åben himmel.\nNår mørket falder på\, er der mulighed for at overnatte i shelter eller telt – og nyde stilheden og stjernerne\, før vi runder turen af med fælles morgenmad søndag.\n\n\nDet praktiske:\nDeltagerbetaling 200 kr.\nTilmelding:\nTilmelding skal ske til Lene på mail lej@blind.dk eller telefon 23 40 92 56\nsenest 29 juni.\nBetaling skal ske til kreds Kbh mobilepay 225292 eller konto reg. 1551 konto 0010197252. Mærk overførslen med dit navn og ordet kano.\nI tilmeldingen skal du informere om du tager hjem efter aftensmaden\, eller om du vil overnatte til søndag. Informer også om evt. Kost hensyn.\n\n\nNote: Vi er i gang med at planlægge fælles transport\, så det kommer der flere detaljer om senere.\n\n\nDe bedste friluftshilsner Søren\, Lene\, Ulrik og Elias.
URL:https://dbsu.dk/arrangement/dbsu-region-oest-kanotur-paa-susaa/
ATTACH;FMTTYPE=image/png:https://dbsu.dk/wp-content/uploads/kanotur-paa-susaa.png
END:VEVENT
END:VCALENDAR